BEGIN:VCALENDAR
VERSION:2.0
PRODID:Fort Bend County, TX Calendar Creator
METHOD:PUBLISH
BEGIN:VEVENT
DTSTAMP:20241219T114234
DTSTART:20241219T060000
DTEND:20241219T070000
SUMMARY:December Proclamation Ceremony
DESCRIPTION:<p class="text-align-center">Fort Bend County Judge KP George Presents</p>

<h2 class="style-heading2 text-align-center">December Proclamation Ceremony</h2>

<p class="text-align-center">The Fort 
CLASS:PUBLIC
END:VEVENT
END:VCALENDAR
